BEGIN:VCALENDAR
VERSION:2.0
PRODID:-//pretix//pretix.eu//
BEGIN:VTIMEZONE
TZID:Europe/Berlin
BEGIN:STANDARD
DTSTART:20001029T040000
RRULE:FREQ=YEARLY;BYDAY=-1SU;BYMONTH=10
TZNAME:CET
TZOFFSETFROM:+0200
TZOFFSETTO:+0100
END:STANDARD
BEGIN:DAYLIGHT
DTSTART:20000326T030000
RRULE:FREQ=YEARLY;BYDAY=-1SU;BYMONTH=3
TZNAME:CEST
TZOFFSETFROM:+0100
TZOFFSETTO:+0200
END:DAYLIGHT
END:VTIMEZONE
BEGIN:VEVENT
UID:pretix-nowticket-hszv-0@event.nowticket.de
DTSTART;TZID=Europe/Berlin:20260619T203000
DTEND;TZID=Europe/Berlin:20260619T213000
DESCRIPTION:Tickets: https://event.nowticket.de/hszv/\nEinlass: 19.06.2026 
 18:30\nVeranstalter: NOWTICKET.de
DTSTAMP:20260424T151820Z
LOCATION:Hundesport und Zuchtverein Wiesental 1926 e.V.\, Seppl-Herberger-R
 ing 20\, 68753 Waghäusel-Wiesental\, Deutschland
SUMMARY:360° SESSION Open-Air-Konzert / 100 Jahre HSZV Wiesental
END:VEVENT
END:VCALENDAR
